BEGIN:VCALENDAR
VERSION:2.0
PRODID:-//BxSE - ECPv6.15.20//NONSGML v1.0//EN
CALSCALE:GREGORIAN
METHOD:PUBLISH
X-WR-CALNAME:BxSE
X-ORIGINAL-URL:https://www.bse.u-bordeaux.fr
X-WR-CALDESC:Évènements pour BxSE
REFRESH-INTERVAL;VALUE=DURATION:PT1H
X-Robots-Tag:noindex
X-PUBLISHED-TTL:PT1H
BEGIN:VTIMEZONE
TZID:Europe/Paris
BEGIN:DAYLIGHT
TZOFFSETFROM:+0100
TZOFFSETTO:+0200
TZNAME:CEST
DTSTART:20230326T010000
END:DAYLIGHT
BEGIN:STANDARD
TZOFFSETFROM:+0200
TZOFFSETTO:+0100
TZNAME:CET
DTSTART:20231029T010000
END:STANDARD
BEGIN:DAYLIGHT
TZOFFSETFROM:+0100
TZOFFSETTO:+0200
TZNAME:CEST
DTSTART:20240331T010000
END:DAYLIGHT
BEGIN:STANDARD
TZOFFSETFROM:+0200
TZOFFSETTO:+0100
TZNAME:CET
DTSTART:20241027T010000
END:STANDARD
BEGIN:DAYLIGHT
TZOFFSETFROM:+0100
TZOFFSETTO:+0200
TZNAME:CEST
DTSTART:20250330T010000
END:DAYLIGHT
BEGIN:STANDARD
TZOFFSETFROM:+0200
TZOFFSETTO:+0100
TZNAME:CET
DTSTART:20251026T010000
END:STANDARD
END:VTIMEZONE
BEGIN:VEVENT
DTSTART;TZID=Europe/Paris:20241011T090000
DTEND;TZID=Europe/Paris:20241011T110000
DTSTAMP:20260424T065431
CREATED:20240903T094358Z
LAST-MODIFIED:20240903T094441Z
UID:22115-1728637200-1728644400@www.bse.u-bordeaux.fr
SUMMARY:Soutenance de thèse : Marine Jouvin
DESCRIPTION:  Soutenance de thèse\n  \n Marine Jouvin\n  \n« Biais d’information stratégiques dans la chaîne de valeur : le cas du cacao certifié en Côte d’Ivoire »\n  \n  \n– sous la direction de  Tanguy Bernard (BSE) – \n \n  \nAgenda > Tous les événements\n  \n  \n 
URL:https://www.bse.u-bordeaux.fr/agenda/soutenance-de-these-marine-jouvin/
LOCATION:Université de Bordeaux\, campus Pessac\, Salle des thèses
END:VEVENT
BEGIN:VEVENT
DTSTART;TZID=Europe/Paris:20241011T150000
DTEND;TZID=Europe/Paris:20241011T160000
DTSTAMP:20260424T065431
CREATED:20240903T094810Z
LAST-MODIFIED:20240903T094810Z
UID:22118-1728658800-1728662400@www.bse.u-bordeaux.fr
SUMMARY:Soutenance de thèse : Jeremy DO NASCIMENTO MIGUEL
DESCRIPTION:  Soutenance de thèse\n  \nJeremy DO NASCIMENTO MIGUEL\n  \n« Normes de Qualité pour les Agriculteurs Africains »\n  \n  \n– sous la direction de  Tanguy Bernard (BSE) – \n \n  \nAgenda > Tous les événements\n  \n  \n 
URL:https://www.bse.u-bordeaux.fr/agenda/soutenance-de-these-jeremy-do-nascimento-miguel/
LOCATION:Université de Bordeaux\, campus Pessac\, Salle des thèses
END:VEVENT
END:VCALENDAR