BEGIN:VCALENDAR
VERSION:2.0
PRODID:-//BxSE - ECPv6.15.20//NONSGML v1.0//EN
CALSCALE:GREGORIAN
METHOD:PUBLISH
X-WR-CALNAME:BxSE
X-ORIGINAL-URL:https://www.bse.u-bordeaux.fr
X-WR-CALDESC:Évènements pour BxSE
REFRESH-INTERVAL;VALUE=DURATION:PT1H
X-Robots-Tag:noindex
X-PUBLISHED-TTL:PT1H
BEGIN:VTIMEZONE
TZID:Europe/Paris
BEGIN:DAYLIGHT
TZOFFSETFROM:+0100
TZOFFSETTO:+0200
TZNAME:CEST
DTSTART:20230326T010000
END:DAYLIGHT
BEGIN:STANDARD
TZOFFSETFROM:+0200
TZOFFSETTO:+0100
TZNAME:CET
DTSTART:20231029T010000
END:STANDARD
BEGIN:DAYLIGHT
TZOFFSETFROM:+0100
TZOFFSETTO:+0200
TZNAME:CEST
DTSTART:20240331T010000
END:DAYLIGHT
BEGIN:STANDARD
TZOFFSETFROM:+0200
TZOFFSETTO:+0100
TZNAME:CET
DTSTART:20241027T010000
END:STANDARD
BEGIN:DAYLIGHT
TZOFFSETFROM:+0100
TZOFFSETTO:+0200
TZNAME:CEST
DTSTART:20250330T010000
END:DAYLIGHT
BEGIN:STANDARD
TZOFFSETFROM:+0200
TZOFFSETTO:+0100
TZNAME:CET
DTSTART:20251026T010000
END:STANDARD
END:VTIMEZONE
BEGIN:VEVENT
DTSTART;TZID=Europe/Paris:20241014T120000
DTEND;TZID=Europe/Paris:20241014T130000
DTSTAMP:20260424T065427
CREATED:20240930T073040Z
LAST-MODIFIED:20241007T204523Z
UID:22446-1728907200-1728910800@www.bse.u-bordeaux.fr
SUMMARY:Séminaire: Professor Travis J. Lybbert (University of California)
DESCRIPTION:Agenda > Tous les événements\nSéminaire d’économie de Bordeaux\nco-organisé par BSE (programme 3) et le GPR IPORA \n  \nProfessor Travis J. Lybbert\n (University of California\, Davis in the Agricultural & Resource Economics Department) \n  \nPotential and pitfall of new data sources for development economics: two recent examples from phone and satelite data\n  \nAbstract: He has published research on topics in applied microeconomic ranging from poverty dynamics\, climate change and childhood nutrition to agricultural technology adoption\, intellectual property and innovation policy. Collaborating with researchers\, students\, NGOs\, governments\, and private firms\, he has lived and worked in India\, Haiti\, and throughout Sub-Saharan Africa\, North Africa and Europe. He has spent time as a visiting researcher in the Intellectual Property Division of the World Trade Organization\, in the Economics and Statistics Division of the World Intellectual Property Organization\, and in universities in Ghana\, Germany and Sweden. He is an Affiliate of the Center for Effective Global Action and currently serves as Co-Editor of the American Journal of Agricultural Economics. Since 2024\, Travis is new chair of the CGIAR’s Standing Panel on Impact Assessment (SPIA). \n  \n>> Pour obtenir le lien pour suivre le séminaire sur Zoom\, contactez julie.vissaguet@u-bordeaux.fr \n 
URL:https://www.bse.u-bordeaux.fr/agenda/seminaire-professor-travis-j-lybbert-university-of-california/
LOCATION:BxSE\, salle de séminaire H2-116\, bât.H\, campus Pessac\, avenue Leon Duguit\, Pessac\, 33600
END:VEVENT
END:VCALENDAR